BEGIN:VCALENDAR
VERSION:2.0
PRODID:-//Tukios.com/
BEGIN:VEVENT
UID:154c9599-0642-4a3c-ba10-0299725182ed@www.glbrightharpmortuary.com
DTSTAMP:20260425T034120Z
DTSTART:20260430T180000Z
DTEND:20260430T213000Z
SUMMARY:Viewing
DESCRIPTION:
URL:https://www.glbrightharpmortuary.com/obituaries/brandon-mabry
LOCATION: 614 West Avenue  North Augusta SC 29841
GEO:33.4964312;-81.9719813
END:VEVENT
END:VCALENDAR