BEGIN:VCALENDAR
VERSION:2.0
PRODID:-//Tukios.com/
BEGIN:VEVENT
UID:8e30faa2-65b9-4c22-acfc-af886dfa3cc9@www.glbrightharpmortuary.com
DTSTAMP:20260425T034033Z
DTSTART:20260501T150000Z
DTEND:20260501T160000Z
SUMMARY:Funeral Service
DESCRIPTION:
URL:https://www.glbrightharpmortuary.com/obituaries/brandon-mabry
LOCATION:Old Macedonia Missionary Baptist Church 200 Macedonia Road  
	North Augusta SC 29860
GEO:33.6260592;-81.9374951
END:VEVENT
END:VCALENDAR