BEGIN:VCALENDAR
VERSION:2.0
PRODID:-//Tukios.com/
BEGIN:VEVENT
UID:f7f65e62-b70f-4a63-81ae-dd5559e6a10d@www.glbrightharpmortuary.com
DTSTAMP:20260422T211819Z
DTSTART:20260425T170000Z
DTEND:20260425T200000Z
SUMMARY:Viewing
DESCRIPTION:
URL:https://www.glbrightharpmortuary.com/obituaries/david-smith-iii
LOCATION: 614 West Avenue  North Augusta SC 29841
GEO:33.4964312;-81.9719813
END:VEVENT
END:VCALENDAR