BEGIN:VCALENDAR
VERSION:2.0
PRODID:-//Tukios.com/
BEGIN:VEVENT
UID:4035266b-9dee-4a26-9963-fa335ce1ab1f@www.glbrightharpmortuary.com
DTSTAMP:20260422T210949Z
DTSTART:20260426T180000Z
DTEND:20260426T190000Z
SUMMARY:Funeral Service
DESCRIPTION:
URL:https://www.glbrightharpmortuary.com/obituaries/david-smith-iii
LOCATION:Zion Hill Missionary Baptist Church 130 Independent Blvd  Aiken 
	SC 29803
GEO:33.4029624;-81.7580399
END:VEVENT
END:VCALENDAR