BEGIN:VCALENDAR
VERSION:2.0
PRODID:-//Tukios.com/
BEGIN:VEVENT
UID:5679997e-9190-4921-9cf7-390cf93a566c@www.glbrightharpmortuary.com
DTSTAMP:20260422T211647Z
DTSTART:20260424T160000Z
DTEND:20260424T170000Z
SUMMARY:Memorial Service
DESCRIPTION:
URL:https://www.glbrightharpmortuary.com/obituaries/earnest-robinson
LOCATION: 390 Beaufort Street NE  Aiken SC 29801
GEO:33.563568;-81.699822
END:VEVENT
END:VCALENDAR