BEGIN:VCALENDAR
VERSION:2.0
PRODID:-//Tukios.com/
BEGIN:VEVENT
UID:80982ba0-cbca-43ed-a5b1-e81846c0ed24@www.glbrightharpmortuary.com
DTSTAMP:20260422T211459Z
DTSTART:20260425T150000Z
DTEND:20260425T160000Z
SUMMARY:Funeral Service
DESCRIPTION:
URL:https://www.glbrightharpmortuary.com/obituaries/geneva-mathews-evans
LOCATION: 1202 Old Edgefield Road  North Augusta SC 29841
GEO:33.5127453;-81.9567732
END:VEVENT
END:VCALENDAR