BEGIN:VCALENDAR
VERSION:2.0
PRODID:-//Tukios.com/
BEGIN:VEVENT
UID:a2877cd5-e148-4cf4-841a-5383ab8a72da@www.glbrightharpmortuary.com
DTSTAMP:20260422T211146Z
DTSTART:20260425
SUMMARY:Interment
DESCRIPTION:
URL:https://www.glbrightharpmortuary.com/obituaries/geneva-mathews-evans
LOCATION: 370 Radio Station Road  North Augusta SC 29841
GEO:33.4990984;-81.9340433
END:VEVENT
END:VCALENDAR