BEGIN:VCALENDAR
VERSION:2.0
PRODID:-//Tukios.com/
BEGIN:VEVENT
UID:3757b994-8e35-43d6-9a9e-b94a62e4ec42@www.glbrightharpmortuary.com
DTSTAMP:20260420T094622Z
DTSTART:20260423T180000Z
DTEND:20260423T213000Z
SUMMARY:Viewing
DESCRIPTION:
URL:https://www.glbrightharpmortuary.com/obituaries/tracy-coleman
LOCATION: 614 West Avenue  North Augusta SC 29841
GEO:33.4964312;-81.9719813
END:VEVENT
END:VCALENDAR