BEGIN:VCALENDAR
VERSION:2.0
PRODID:-//Tukios.com/
BEGIN:VEVENT
UID:b7c5ab88-7ac6-40e4-b026-5b6a8c00c3b0@www.glbrightharpmortuary.com
DTSTAMP:20260420T094304Z
DTSTART:20260424
SUMMARY:Entombment
DESCRIPTION:
URL:https://www.glbrightharpmortuary.com/obituaries/tracy-coleman
LOCATION: 450 W Five Notch Rd  North Augusta SC 29841
GEO:33.5459055;-81.9587519
END:VEVENT
END:VCALENDAR