BEGIN:VCALENDAR
VERSION:2.0
PRODID:-//Tukios.com/
BEGIN:VEVENT
UID:3f10174d-3914-49b3-beea-15cd3eaab10c@www.glbrightharpmortuary.com
DTSTAMP:20260420T094603Z
DTSTART:20260424T150000Z
DTEND:20260424T160000Z
SUMMARY:Funeral Service
DESCRIPTION:
URL:https://www.glbrightharpmortuary.com/obituaries/tracy-coleman
LOCATION: 614 West Avenue  North Augusta SC 29841
GEO:33.4964312;-81.9719813
END:VEVENT
END:VCALENDAR